BEGIN:VCALENDAR
VERSION:2.0
PRODID:-//Jungfreisinnige Winterthur - ECPv6.2.4//NONSGML v1.0//EN
CALSCALE:GREGORIAN
METHOD:PUBLISH
X-WR-CALNAME:Jungfreisinnige Winterthur
X-ORIGINAL-URL:https://jfw.ch
X-WR-CALDESC:Veranstaltungen für Jungfreisinnige Winterthur
REFRESH-INTERVAL;VALUE=DURATION:PT1H
X-Robots-Tag:noindex
X-PUBLISHED-TTL:PT1H
BEGIN:VTIMEZONE
TZID:Europe/Zurich
BEGIN:DAYLIGHT
TZOFFSETFROM:+0100
TZOFFSETTO:+0200
TZNAME:CEST
DTSTART:20230326T010000
END:DAYLIGHT
BEGIN:STANDARD
TZOFFSETFROM:+0200
TZOFFSETTO:+0100
TZNAME:CET
DTSTART:20231029T010000
END:STANDARD
END:VTIMEZONE
BEGIN:VEVENT
DTSTART;VALUE=DATE:20231102
DTEND;VALUE=DATE:20231103
DTSTAMP:20231024T102954
CREATED:20230101T131248Z
LAST-MODIFIED:20230101T131248Z
UID:15116-1698883200-1698969599@jfw.ch
SUMMARY:Stamm oder Mitgliederversammlung
DESCRIPTION:
URL:https://jfw.ch/event/stamm-oder-mitgliederversammlung-3/
END:VEVENT
BEGIN:VEVENT
DTSTART;VALUE=DATE:20231222
DTEND;VALUE=DATE:20231223
DTSTAMP:20231024T102954
CREATED:20230101T131308Z
LAST-MODIFIED:20230101T131308Z
UID:15118-1703203200-1703289599@jfw.ch
SUMMARY:Weihnachtsessen
DESCRIPTION:
URL:https://jfw.ch/event/weihnachtsessen/
END:VEVENT
END:VCALENDAR